BEGIN:VCALENDAR
VERSION:2.0
PRODID:-//YourSite//ICS Event Generator//EN
CALSCALE:GREGORIAN
METHOD:PUBLISH
BEGIN:VEVENT
UID:event-1774969448264-0jlcvkxz@yourdomain.com
DTSTAMP:20260331T150408Z
DTSTART;TZID=Europe/London:20260506T070000
DTEND;TZID=Europe/London:20260506T080000
SUMMARY:Q1 2026 Trading Statement
END:VEVENT
END:VCALENDAR
